BEGIN:VCALENDAR
VERSION:2.0
PRODID:-//wp-events-plugin.com//7.2.3.1//EN
TZID:Europe/Berlin
X-WR-TIMEZONE:Europe/Berlin
BEGIN:VEVENT
UID:601@tr-register.de
DTSTART;TZID=Europe/Berlin:20260731T000000
DTEND;TZID=Europe/Berlin:20260802T000000
DTSTAMP:20260412T175238Z
URL:https://tr-register.de/veranstaltungen/tr-club-schweden-sommertreffen/
SUMMARY:TR Club Schweden Sommertreffen
DESCRIPTION:Der Schwedische TR-Club läd ein zum Sommertreffen\n\n\n\nWeite
 re Infos hier
CATEGORIES:weitere Treffen
LOCATION:https://triumphtr.com/event/sommartraff-2/
END:VEVENT
BEGIN:VTIMEZONE
TZID:Europe/Berlin
X-LIC-LOCATION:Europe/Berlin
BEGIN:DAYLIGHT
DTSTART:20260329T030000
TZOFFSETFROM:+0100
TZOFFSETTO:+0200
TZNAME:CEST
END:DAYLIGHT
END:VTIMEZONE
END:VCALENDAR