BEGIN:VCALENDAR
VERSION:2.0
PRODID:-//wp-events-plugin.com//7.2.3.1//EN
TZID:Europe/Berlin
X-WR-TIMEZONE:Europe/Berlin
BEGIN:VEVENT
UID:581@tr-register.de
DTSTART;TZID=Europe/Berlin:20260501T100000
DTEND;TZID=Europe/Berlin:20260501T160000
DTSTAMP:20260222T143015Z
URL:https://tr-register.de/veranstaltungen/oldtimer-saison-auftakt-rac-rat
 zeburg/
SUMMARY:OLDTIMER SAISON-AUFTAKT-RAC-Ratzeburg
DESCRIPTION:3. Oldtimer Saison-Auftakt TreffenStart in die neue Saison 2026
  mit Klönschnack und Bratwurst \n\n– neuer Veranstaltungsort – \n\nGi
 ldeplatz Ratzeburg\n\nhttps://www.rac-ratzeburg.de/
CATEGORIES:Hamburg,weitere Treffen
END:VEVENT
BEGIN:VTIMEZONE
TZID:Europe/Berlin
X-LIC-LOCATION:Europe/Berlin
BEGIN:DAYLIGHT
DTSTART:20260329T030000
TZOFFSETFROM:+0100
TZOFFSETTO:+0200
TZNAME:CEST
END:DAYLIGHT
END:VTIMEZONE
END:VCALENDAR