BEGIN:VCALENDAR
VERSION:2.0
PRODID:-//wp-events-plugin.com//7.2.3.1//EN
TZID:Europe/Berlin
X-WR-TIMEZONE:Europe/Berlin
BEGIN:VEVENT
UID:572@tr-register.de
DTSTART;TZID=Europe/Berlin:20260620T100000
DTEND;TZID=Europe/Berlin:20260620T150000
DTSTAMP:20260222T142132Z
URL:https://tr-register.de/veranstaltungen/englaender-treffen-tankstelle-b
 randshof/
SUMMARY:Engländer Treffen Tankstelle Brandshof
DESCRIPTION:Kontakt hamburg@tr-register.de\n\nDas TR-Register Hamburg läd
 t alle Freunde:innen und Fahrer:innen englischen Blechs herzlich zum Very 
 British-Engländertreffen in Hamburg ein!\n\nAustin Healey\, Bentley\, Jag
 uar\, Lotus\, MG\, Mini\, Morris\, Rolls Royce\, Triumph\, TVR... alle Kla
 ssiker-Baureihen und Baujahre sind an diesem Sonnabend herzlich willkommen
  zum Gucken\, Schnacken\, Verabreden. Wir freuen uns auf Euch!\n\nhttps://
 www.tankstelle-brandshof.de/veranstaltungen/uebersicht/details/very-britis
 h-das-englaender-treffen.html\n\nGrosstankstelle Brandshof\nBillhorner Rö
 hrendamm 4\,\n20539 Hamburg\n\nwww.tankstelle-brandshof.de\n\nOrt 20539 H
 amburg
CATEGORIES:Hamburg,weitere Treffen
END:VEVENT
BEGIN:VTIMEZONE
TZID:Europe/Berlin
X-LIC-LOCATION:Europe/Berlin
BEGIN:DAYLIGHT
DTSTART:20260329T030000
TZOFFSETFROM:+0100
TZOFFSETTO:+0200
TZNAME:CEST
END:DAYLIGHT
END:VTIMEZONE
END:VCALENDAR