BEGIN:VCALENDAR
VERSION:2.0
PRODID:-//wp-events-plugin.com//7.2.3.1//EN
TZID:Europe/Berlin
X-WR-TIMEZONE:Europe/Berlin
BEGIN:VEVENT
UID:303@tr-register.de
DTSTART;TZID=Europe/Berlin:20260814T180000
DTEND;TZID=Europe/Berlin:20260814T220000
DTSTAMP:20260312T181341Z
URL:https://tr-register.de/veranstaltungen/clubtreffen-die-teutonen-2026-0
 8-14/
SUMMARY:Stammtisch Teutonen
DESCRIPTION:Stammtisch\njeden 2. Freitag im Monat\nab 18:00 Uhr\n\n 	Restau
 rant Kreuzkrug\nWerther Str. 462\n33619  Bielefeld\n 	+49 521 / 102264\n\
 n&nbsp\;
CATEGORIES:Teutonen
END:VEVENT
BEGIN:VTIMEZONE
TZID:Europe/Berlin
X-LIC-LOCATION:Europe/Berlin
BEGIN:DAYLIGHT
DTSTART:20260329T030000
TZOFFSETFROM:+0100
TZOFFSETTO:+0200
TZNAME:CEST
END:DAYLIGHT
END:VTIMEZONE
END:VCALENDAR