BEGIN:VCALENDAR
VERSION:2.0
PRODID:-//wp-events-plugin.com//7.2.3.1//EN
TZID:Europe/Berlin
X-WR-TIMEZONE:Europe/Berlin
BEGIN:VEVENT
UID:285@tr-register.de
DTSTART;TZID=Europe/Berlin:20260524T000000
DTEND;TZID=Europe/Berlin:20260525T000000
DTSTAMP:20251118T153822Z
URL:https://tr-register.de/veranstaltungen/british-htgt-spa-summer-classic
 -2/
SUMMARY:British HTGT  Brands Hatch
DESCRIPTION:
CATEGORIES:Sport-HTGT
END:VEVENT
BEGIN:VTIMEZONE
TZID:Europe/Berlin
X-LIC-LOCATION:Europe/Berlin
BEGIN:DAYLIGHT
DTSTART:20260329T030000
TZOFFSETFROM:+0100
TZOFFSETTO:+0200
TZNAME:CEST
END:DAYLIGHT
END:VTIMEZONE
END:VCALENDAR