BEGIN:VCALENDAR
VERSION:2.0
PRODID:-//wp-events-plugin.com//7.2.3.1//EN
TZID:Europe/Berlin
X-WR-TIMEZONE:Europe/Berlin
BEGIN:VEVENT
UID:575@tr-register.de
DTSTART;TZID=Europe/Berlin:20260501T100000
DTEND;TZID=Europe/Berlin:20260501T180000
DTSTAMP:20260210T185942Z
URL:https://tr-register.de/veranstaltungen/1-mai-ausfahrt-durch-stormarn/
SUMMARY:1. Mai Ausfahrt - Gruppe Hamburg - durch Stormarn
DESCRIPTION:Saisonauftakt TR-Ausfahrt durch Stormarn mit Pause im Antik Caf
 e Labenz\n\n&nbsp\;\n\nMit anschliessender Fahrt zum Clublokal
CATEGORIES:Hamburg
END:VEVENT
BEGIN:VTIMEZONE
TZID:Europe/Berlin
X-LIC-LOCATION:Europe/Berlin
BEGIN:DAYLIGHT
DTSTART:20260329T030000
TZOFFSETFROM:+0100
TZOFFSETTO:+0200
TZNAME:CEST
END:DAYLIGHT
END:VTIMEZONE
END:VCALENDAR